{
 "currentVersion": 10.61,
 "serviceDescription": "compins2 image service",
 "name": "Compins2",
 "description": "compins2 image service",
 "extent": {
  "xmin": 442039.63210664556,
  "ymin": 111007.67656423099,
  "xmax": 466943.1161573581,
  "ymax": 139980.8964102948,
  "spatialReference": {
   "wkid": 27700,
   "latestWkid": 27700
  }
 },
 "initialExtent": {
  "xmin": 442039.63210664556,
  "ymin": 111007.67656423099,
  "xmax": 466943.1161573581,
  "ymax": 139980.8964102948,
  "spatialReference": {
   "wkid": 27700,
   "latestWkid": 27700
  }
 },
 "fullExtent": {
  "xmin": 442039.63210664556,
  "ymin": 111007.67656423099,
  "xmax": 466943.1161573581,
  "ymax": 139980.8964102948,
  "spatialReference": {
   "wkid": 27700,
   "latestWkid": 27700
  }
 },
 "pixelSizeX": 0.08799475656675022,
 "pixelSizeY": 0.0689556178090492,
 "bandCount": 3,
 "pixelType": "U8",
 "minPixelSize": 0,
 "maxPixelSize": 0,
 "copyrightText": "",
 "serviceDataType": "esriImageServiceDataTypeRGB",
 "minValues": [
  0,
  0,
  0
 ],
 "maxValues": [
  255,
  255,
  255
 ],
 "meanValues": [
  219.6818543050895,
  210.3516251799277,
  196.8540052449819
 ],
 "stdvValues": [
  44.36036309125843,
  46.54687192732088,
  50.42424022834299
 ],
 "objectIdField": "",
 "fields": [],
 "capabilities": "Image,Metadata,Mensuration",
 "defaultMosaicMethod": "Center",
 "allowedMosaicMethods": "",
 "sortField": "",
 "sortValue": null,
 "mosaicOperator": "First",
 "defaultCompressionQuality": 75,
 "defaultResamplingMethod": "Bilinear",
 "maxImageHeight": 4100,
 "maxImageWidth": 15000,
 "allowRasterFunction": true,
 "rasterFunctionInfos": [
  {
   "name": "None",
   "description": "",
   "help": ""
  }
 ],
 "rasterTypeInfos": [
  {
   "name": "Raster Dataset",
   "description": "Supports all ArcGIS Raster Datasets",
   "help": ""
  }
 ],
 "mensurationCapabilities": "Basic",
 "hasHistograms": true,
 "hasColormap": false,
 "hasRasterAttributeTable": false,
 "minScale": 0,
 "maxScale": 0,
 "exportTilesAllowed": false,
 "hasMultidimensions": false,
 "supportsStatistics": false,
 "supportsAdvancedQueries": false,
 "editFieldsInfo": null,
 "ownershipBasedAccessControlForRasters": null,
 "allowComputeTiePoints": false,
 "useStandardizedQueries": true,
 "advancedQueryCapabilities": {
  "useStandardizedQueries": true,
  "supportsStatistics": false,
  "supportsOrderBy": false,
  "supportsDistinct": false,
  "supportsPagination": false
 },
 "spatialReference": {
  "wkid": 27700,
  "latestWkid": 27700
 }
}
