{
 "currentVersion": 10.61,
 "serviceDescription": "Winnall Moors Water Courses Georeferenced Map for reference for Special Maintenance",
 "name": "Winnal_Moors_Water_Courses",
 "description": "Winnall Moors Water Courses Georeferenced Map for reference for Special Maintenance",
 "extent": {
  "xmin": 447878.13658411213,
  "ymin": 129633.7694319989,
  "xmax": 449666.81928179716,
  "ymax": 131745.2384901479,
  "spatialReference": {
   "wkid": 27700,
   "latestWkid": 27700
  }
 },
 "initialExtent": {
  "xmin": 447878.13658411213,
  "ymin": 129633.7694319989,
  "xmax": 449666.81928179716,
  "ymax": 131745.2384901479,
  "spatialReference": {
   "wkid": 27700,
   "latestWkid": 27700
  }
 },
 "fullExtent": {
  "xmin": 447878.13658411213,
  "ymin": 129633.7694319989,
  "xmax": 449666.81928179716,
  "ymax": 131745.2384901479,
  "spatialReference": {
   "wkid": 27700,
   "latestWkid": 27700
  }
 },
 "pixelSizeX": 1.2069383925000188,
 "pixelSizeY": 1.2072436009999996,
 "bandCount": 3,
 "pixelType": "U8",
 "minPixelSize": 0,
 "maxPixelSize": 0,
 "copyrightText": "",
 "serviceDataType": "esriImageServiceDataTypeRGB",
 "minValues": [
  0,
  0,
  0
 ],
 "maxValues": [
  255,
  255,
  255
 ],
 "meanValues": [
  221.50096064147704,
  220.12358093192253,
  221.2170490328385
 ],
 "stdvValues": [
  61.86557866034051,
  64.31975382174188,
  62.21934808309772
 ],
 "objectIdField": "",
 "fields": [],
 "capabilities": "Image,Metadata,Mensuration",
 "defaultMosaicMethod": "Center",
 "allowedMosaicMethods": "",
 "sortField": "",
 "sortValue": null,
 "mosaicOperator": "First",
 "defaultCompressionQuality": 75,
 "defaultResamplingMethod": "Bilinear",
 "maxImageHeight": 4100,
 "maxImageWidth": 15000,
 "allowRasterFunction": true,
 "rasterFunctionInfos": [
  {
   "name": "None",
   "description": "",
   "help": ""
  }
 ],
 "rasterTypeInfos": [
  {
   "name": "Raster Dataset",
   "description": "Supports all ArcGIS Raster Datasets",
   "help": ""
  }
 ],
 "mensurationCapabilities": "Basic",
 "hasHistograms": true,
 "hasColormap": false,
 "hasRasterAttributeTable": false,
 "minScale": 0,
 "maxScale": 0,
 "exportTilesAllowed": false,
 "hasMultidimensions": false,
 "supportsStatistics": false,
 "supportsAdvancedQueries": false,
 "editFieldsInfo": null,
 "ownershipBasedAccessControlForRasters": null,
 "allowComputeTiePoints": false,
 "useStandardizedQueries": true,
 "advancedQueryCapabilities": {
  "useStandardizedQueries": true,
  "supportsStatistics": false,
  "supportsOrderBy": false,
  "supportsDistinct": false,
  "supportsPagination": false
 },
 "spatialReference": {
  "wkid": 27700,
  "latestWkid": 27700
 }
}
