View In:
ArcGIS JavaScript
ArcGIS Online Map Viewer
ArcGIS Earth
ArcMap
View Footprint In:
ArcGIS Online Map Viewer
Service Description: Compdups Image service
Name: Compdups
Description: Compdups Image service
Single Fused Map Cache: false
Extent:
XMin: 442000.0415780926
YMin: 109999.89047423471
XMax: 468000.0415780926
YMax: 140999.8904742347
Spatial Reference: 27700
(27700)
Initial Extent:
XMin: 442000.0415780926
YMin: 109999.89047423471
XMax: 468000.0415780926
YMax: 140999.8904742347
Spatial Reference: 27700
(27700)
Full Extent:
XMin: 442000.0415780926
YMin: 109999.89047423471
XMax: 468000.0415780926
YMax: 140999.8904742347
Spatial Reference: 27700
(27700)
Pixel Size X: 0.24224806201550386
Pixel Size Y: 0.24224806201550386
Band Count: 3
Pixel Type: U8
RasterFunction Infos: {"rasterFunctionInfos": [{
"name": "None",
"description": "",
"help": ""
}]}
Mensuration Capabilities: Basic
Has Histograms: true
Has Colormap: false
Has Multi Dimensions : false
Rendering Rule:
Min Scale: 0
Max Scale: 0
Copyright Text:
Service Data Type: esriImageServiceDataTypeRGB
Min Values: 0, 0, 0
Max Values: 255, 255, 255
Mean Values: 229.14370252653111, 219.20316478191114, 202.4584955326117
Standard Deviation Values: 29.488663645690703, 30.324364290894497, 30.23057800384082
Object ID Field:
Fields:
None
Default Mosaic Method: Center
Allowed Mosaic Methods:
SortField:
SortValue: null
Mosaic Operator: First
Default Compression Quality: 75
Default Resampling Method: Bilinear
Max Record Count: null
Max Image Height: 4100
Max Image Width: 15000
Max Download Image Count: null
Max Mosaic Image Count: null
Allow Raster Function: true
Allow Compute TiePoints: false
Supports Statistics: false
Supports Advanced Queries: false
Use StandardizedQueries: true
Raster Type Infos:
Name: Raster Dataset
Description: Supports all ArcGIS Raster Datasets
Help:
Has Raster Attribute Table: false
Edit Fields Info: null
Ownership Based AccessControl For Rasters: null
Child Resources:
Info
Histograms
Key Properties
Legend
MultiDimensionalInfo
rasterFunctionInfos
Supported Operations:
Export Image
Identify
Measure
Compute Histograms
Compute Statistics Histograms
Get Samples
Compute Class Statistics
Query Boundary