View In:
ArcGIS JavaScript
ArcGIS Online Map Viewer
ArcGIS Earth
ArcMap
View Footprint In:
ArcGIS Online Map Viewer
Service Description: compfull image service
Name: Compfull
Description: compfull image service
Single Fused Map Cache: false
Extent:
XMin: 438000.071780798
YMin: 106000.03075729404
XMax: 470000.07178079523
YMax: 144000.03075729404
Spatial Reference: 27700
(27700)
Initial Extent:
XMin: 438000.071780798
YMin: 106000.03075729404
XMax: 470000.07178079523
YMax: 144000.03075729404
Spatial Reference: 27700
(27700)
Full Extent:
XMin: 438000.071780798
YMin: 106000.03075729404
XMax: 470000.07178079523
YMax: 144000.03075729404
Spatial Reference: 27700
(27700)
Pixel Size X: 0.22343872193049105
Pixel Size Y: 0.22341376228775692
Band Count: 3
Pixel Type: U8
RasterFunction Infos: {"rasterFunctionInfos": [{
"name": "None",
"description": "",
"help": ""
}]}
Mensuration Capabilities: Basic
Has Histograms: true
Has Colormap: false
Has Multi Dimensions : false
Rendering Rule:
Min Scale: 0
Max Scale: 0
Copyright Text:
Service Data Type: esriImageServiceDataTypeRGB
Min Values: 0, 0, 0
Max Values: 255, 255, 255
Mean Values: 231.6176834351513, 223.84968617030148, 215.95272764337986
Standard Deviation Values: 26.222365378046426, 26.67957202505434, 28.412356971686094
Object ID Field:
Fields:
None
Default Mosaic Method: Center
Allowed Mosaic Methods:
SortField:
SortValue: null
Mosaic Operator: First
Default Compression Quality: 75
Default Resampling Method: Bilinear
Max Record Count: null
Max Image Height: 4100
Max Image Width: 15000
Max Download Image Count: null
Max Mosaic Image Count: null
Allow Raster Function: true
Allow Compute TiePoints: false
Supports Statistics: false
Supports Advanced Queries: false
Use StandardizedQueries: true
Raster Type Infos:
Name: Raster Dataset
Description: Supports all ArcGIS Raster Datasets
Help:
Has Raster Attribute Table: false
Edit Fields Info: null
Ownership Based AccessControl For Rasters: null
Child Resources:
Info
Histograms
Key Properties
Legend
MultiDimensionalInfo
rasterFunctionInfos
Supported Operations:
Export Image
Identify
Measure
Compute Histograms
Compute Statistics Histograms
Get Samples
Compute Class Statistics
Query Boundary