View In:
ArcGIS JavaScript
ArcGIS Online Map Viewer
ArcGIS Earth
ArcMap
View Footprint In:
ArcGIS Online Map Viewer
Service Description: compins image service
Name: Compins
Description: compins image service
Single Fused Map Cache: false
Extent:
XMin: 438037.56976287346
YMin: 107433.53031739172
XMax: 466993.0432051936
YMax: 143706.55588066537
Spatial Reference: 27700
(27700)
Initial Extent:
XMin: 438037.56976287346
YMin: 107433.53031739172
XMax: 466993.0432051936
YMax: 143706.55588066537
Spatial Reference: 27700
(27700)
Full Extent:
XMin: 438037.56976287346
YMin: 107433.53031739172
XMax: 466993.0432051936
YMax: 143706.55588066537
Spatial Reference: 27700
(27700)
Pixel Size X: 0.15037507954776624
Pixel Size Y: 0.15037507954776674
Band Count: 3
Pixel Type: U8
RasterFunction Infos: {"rasterFunctionInfos": [{
"name": "None",
"description": "",
"help": ""
}]}
Mensuration Capabilities: Basic
Has Histograms: true
Has Colormap: false
Has Multi Dimensions : false
Rendering Rule:
Min Scale: 0
Max Scale: 0
Copyright Text:
Service Data Type: esriImageServiceDataTypeRGB
Min Values: 0, 0, 0
Max Values: 255, 255, 255
Mean Values: 222.82786118553875, 220.92936220671888, 225.05380045410558
Standard Deviation Values: 39.47656976151638, 40.52876896462241, 43.883754639838905
Object ID Field:
Fields:
None
Default Mosaic Method: Center
Allowed Mosaic Methods:
SortField:
SortValue: null
Mosaic Operator: First
Default Compression Quality: 75
Default Resampling Method: Bilinear
Max Record Count: null
Max Image Height: 4100
Max Image Width: 15000
Max Download Image Count: null
Max Mosaic Image Count: null
Allow Raster Function: true
Allow Compute TiePoints: false
Supports Statistics: false
Supports Advanced Queries: false
Use StandardizedQueries: true
Raster Type Infos:
Name: Raster Dataset
Description: Supports all ArcGIS Raster Datasets
Help:
Has Raster Attribute Table: false
Edit Fields Info: null
Ownership Based AccessControl For Rasters: null
Child Resources:
Info
Histograms
Key Properties
Legend
MultiDimensionalInfo
rasterFunctionInfos
Supported Operations:
Export Image
Identify
Measure
Compute Histograms
Compute Statistics Histograms
Get Samples
Compute Class Statistics
Query Boundary