View In:
ArcGIS JavaScript
ArcGIS Online Map Viewer
ArcGIS Earth
ArcMap
View Footprint In:
ArcGIS Online Map Viewer
Service Description: compins2 image service
Name: Compins2
Description: compins2 image service
Single Fused Map Cache: false
Extent:
XMin: 442039.63210664556
YMin: 111007.67656423099
XMax: 466943.1161573581
YMax: 139980.8964102948
Spatial Reference: 27700
(27700)
Initial Extent:
XMin: 442039.63210664556
YMin: 111007.67656423099
XMax: 466943.1161573581
YMax: 139980.8964102948
Spatial Reference: 27700
(27700)
Full Extent:
XMin: 442039.63210664556
YMin: 111007.67656423099
XMax: 466943.1161573581
YMax: 139980.8964102948
Spatial Reference: 27700
(27700)
Pixel Size X: 0.08799475656675022
Pixel Size Y: 0.0689556178090492
Band Count: 3
Pixel Type: U8
RasterFunction Infos: {"rasterFunctionInfos": [{
"name": "None",
"description": "",
"help": ""
}]}
Mensuration Capabilities: Basic
Has Histograms: true
Has Colormap: false
Has Multi Dimensions : false
Rendering Rule:
Min Scale: 0
Max Scale: 0
Copyright Text:
Service Data Type: esriImageServiceDataTypeRGB
Min Values: 0, 0, 0
Max Values: 255, 255, 255
Mean Values: 219.6818543050895, 210.3516251799277, 196.8540052449819
Standard Deviation Values: 44.36036309125843, 46.54687192732088, 50.42424022834299
Object ID Field:
Fields:
None
Default Mosaic Method: Center
Allowed Mosaic Methods:
SortField:
SortValue: null
Mosaic Operator: First
Default Compression Quality: 75
Default Resampling Method: Bilinear
Max Record Count: null
Max Image Height: 4100
Max Image Width: 15000
Max Download Image Count: null
Max Mosaic Image Count: null
Allow Raster Function: true
Allow Compute TiePoints: false
Supports Statistics: false
Supports Advanced Queries: false
Use StandardizedQueries: true
Raster Type Infos:
Name: Raster Dataset
Description: Supports all ArcGIS Raster Datasets
Help:
Has Raster Attribute Table: false
Edit Fields Info: null
Ownership Based AccessControl For Rasters: null
Child Resources:
Info
Histograms
Key Properties
Legend
MultiDimensionalInfo
rasterFunctionInfos
Supported Operations:
Export Image
Identify
Measure
Compute Histograms
Compute Statistics Histograms
Get Samples
Compute Class Statistics
Query Boundary