View In:
ArcGIS JavaScript
ArcGIS Online Map Viewer
ArcGIS Earth
ArcMap
View Footprint In:
ArcGIS Online Map Viewer
Service Description: Winnall Moors Water Courses Georeferenced Map for reference for Special Maintenance
Name: Winnal_Moors_Water_Courses
Description: Winnall Moors Water Courses Georeferenced Map for reference for Special Maintenance
Single Fused Map Cache: false
Extent:
XMin: 447878.13658411213
YMin: 129633.7694319989
XMax: 449666.81928179716
YMax: 131745.2384901479
Spatial Reference: 27700
(27700)
Initial Extent:
XMin: 447878.13658411213
YMin: 129633.7694319989
XMax: 449666.81928179716
YMax: 131745.2384901479
Spatial Reference: 27700
(27700)
Full Extent:
XMin: 447878.13658411213
YMin: 129633.7694319989
XMax: 449666.81928179716
YMax: 131745.2384901479
Spatial Reference: 27700
(27700)
Pixel Size X: 1.2069383925000188
Pixel Size Y: 1.2072436009999996
Band Count: 3
Pixel Type: U8
RasterFunction Infos: {"rasterFunctionInfos": [{
"name": "None",
"description": "",
"help": ""
}]}
Mensuration Capabilities: Basic
Has Histograms: true
Has Colormap: false
Has Multi Dimensions : false
Rendering Rule:
Min Scale: 0
Max Scale: 0
Copyright Text:
Service Data Type: esriImageServiceDataTypeRGB
Min Values: 0, 0, 0
Max Values: 255, 255, 255
Mean Values: 221.50096064147704, 220.12358093192253, 221.2170490328385
Standard Deviation Values: 61.86557866034051, 64.31975382174188, 62.21934808309772
Object ID Field:
Fields:
None
Default Mosaic Method: Center
Allowed Mosaic Methods:
SortField:
SortValue: null
Mosaic Operator: First
Default Compression Quality: 75
Default Resampling Method: Bilinear
Max Record Count: null
Max Image Height: 4100
Max Image Width: 15000
Max Download Image Count: null
Max Mosaic Image Count: null
Allow Raster Function: true
Allow Compute TiePoints: false
Supports Statistics: false
Supports Advanced Queries: false
Use StandardizedQueries: true
Raster Type Infos:
Name: Raster Dataset
Description: Supports all ArcGIS Raster Datasets
Help:
Has Raster Attribute Table: false
Edit Fields Info: null
Ownership Based AccessControl For Rasters: null
Child Resources:
Info
Histograms
Key Properties
Legend
MultiDimensionalInfo
rasterFunctionInfos
Supported Operations:
Export Image
Identify
Measure
Compute Histograms
Compute Statistics Histograms
Get Samples
Compute Class Statistics
Query Boundary